BEGIN:VCALENDAR
VERSION:2.0
PRODID:-//Atom Jazz Network - ECPv6.15.20//NONSGML v1.0//EN
CALSCALE:GREGORIAN
METHOD:PUBLISH
X-WR-CALNAME:Atom Jazz Network
X-ORIGINAL-URL:https://atomjazznetwork.org
X-WR-CALDESC:Events for Atom Jazz Network
REFRESH-INTERVAL;VALUE=DURATION:PT1H
X-Robots-Tag:noindex
X-PUBLISHED-TTL:PT1H
BEGIN:VTIMEZONE
TZID:America/Denver
BEGIN:DAYLIGHT
TZOFFSETFROM:-0700
TZOFFSETTO:-0600
TZNAME:MDT
DTSTART:20250309T090000
END:DAYLIGHT
BEGIN:STANDARD
TZOFFSETFROM:-0600
TZOFFSETTO:-0700
TZNAME:MST
DTSTART:20251102T080000
END:STANDARD
BEGIN:DAYLIGHT
TZOFFSETFROM:-0700
TZOFFSETTO:-0600
TZNAME:MDT
DTSTART:20260308T090000
END:DAYLIGHT
BEGIN:STANDARD
TZOFFSETFROM:-0600
TZOFFSETTO:-0700
TZNAME:MST
DTSTART:20261101T080000
END:STANDARD
BEGIN:DAYLIGHT
TZOFFSETFROM:-0700
TZOFFSETTO:-0600
TZNAME:MDT
DTSTART:20270314T090000
END:DAYLIGHT
BEGIN:STANDARD
TZOFFSETFROM:-0600
TZOFFSETTO:-0700
TZNAME:MST
DTSTART:20271107T080000
END:STANDARD
END:VTIMEZONE
BEGIN:VEVENT
DTSTART;TZID=America/Denver:20260423T123000
DTEND;TZID=America/Denver:20260423T133000
DTSTAMP:20260423T035742
CREATED:20260422T035552Z
LAST-MODIFIED:20260422T035552Z
UID:10003322-1776947400-1776951000@atomjazznetwork.org
SUMMARY:Vocalese @ UNC
DESCRIPTION:
URL:https://atomjazznetwork.org/event/vocalese-unc/
LOCATION:UNC Campus Commons\, 1051 22nd St\, Greeley\, CO\, 80639\, United States
CATEGORIES:Concerts
END:VEVENT
BEGIN:VEVENT
DTSTART;TZID=America/Denver:20260423T190000
DTEND;TZID=America/Denver:20260423T210000
DTSTAMP:20260423T035742
CREATED:20260325T034449Z
LAST-MODIFIED:20260326T035653Z
UID:10000457-1776970800-1776978000@atomjazznetwork.org
SUMMARY:Peter Stoltzman/Gonzalo Teppa/Clare Church @ the Muse
DESCRIPTION:TICKETED EVENT : ALL AGESWhen these three musicians get together\, the love they have for music and for each other is always a joy to behold\, and for this special not-to-be-missed concert\, they will play and sing about the things they love.
URL:https://atomjazznetwork.org/event/peter-stoltzman-gonzalo-teppa-clare-church-the-muse/
LOCATION:The Muse\, 200 E South Boulder Rd\, Lafayette\, CO\, 80026\, United States
CATEGORIES:Concerts
END:VEVENT
BEGIN:VEVENT
DTSTART;TZID=America/Denver:20260424T190000
DTEND;TZID=America/Denver:20260424T203000
DTSTAMP:20260423T035742
CREATED:20260417T044802Z
LAST-MODIFIED:20260417T044802Z
UID:10003058-1777057200-1777062600@atomjazznetwork.org
SUMMARY:Something Out Of @ The Muse
DESCRIPTION:TICKETED EVENT \nSomething Out Of is a modern jazz fusion project blending groove\, grit\, and ethereal textures into a genre-bending experience. This Colorado-based collective fuses jazz sophistication with funk\, rock and cinematic soul. Their recently released debut album\, “What If…” is both a question and statement. With searing solos\, polyrhythmic play\, and unexpected turns\, the sound merges soulful groove with high energy exploration. For more information\, please visit the website: http://www.somethingoutof.com \nDoug Ebert- Bass\nSteven Jon: Guitar\nArmando Lopez: Saxophone\nTyler Treadway: Piano\nMike Zislis: Drums
URL:https://atomjazznetwork.org/event/something-out-of-the-muse/
LOCATION:The Muse\, 200 E South Boulder Rd\, Lafayette\, CO\, 80026\, United States
CATEGORIES:Concerts
END:VEVENT
BEGIN:VEVENT
DTSTART;TZID=America/Denver:20260425T140000
DTEND;TZID=America/Denver:20260425T150000
DTSTAMP:20260423T035742
CREATED:20260422T035629Z
LAST-MODIFIED:20260422T035629Z
UID:10003323-1777125600-1777129200@atomjazznetwork.org
SUMMARY:Yoshi's Combo @ UNC
DESCRIPTION:
URL:https://atomjazznetwork.org/event/yoshis-combo-unc/
LOCATION:UNC Campus Commons\, 1051 22nd St\, Greeley\, CO\, 80639\, United States
CATEGORIES:Concerts
END:VEVENT
BEGIN:VEVENT
DTSTART;TZID=America/Denver:20260425T150000
DTEND;TZID=America/Denver:20260425T163000
DTSTAMP:20260423T035742
CREATED:20260423T042049Z
LAST-MODIFIED:20260423T042049Z
UID:10003324-1777129200-1777134600@atomjazznetwork.org
SUMMARY:Jack Kaskela's Junior Recital @ CSU
DESCRIPTION:
URL:https://atomjazznetwork.org/event/jack-kaskelas-junior-recital-csu/
LOCATION:CSU Organ Recital Hall\, University Center for the Arts\, Colorado State University 1400 Remington St\, Fort Collins\, CO\, 80524\, United States
CATEGORIES:Concerts
END:VEVENT
BEGIN:VEVENT
DTSTART;TZID=America/Denver:20260427T183000
DTEND;TZID=America/Denver:20260427T200000
DTSTAMP:20260423T035742
CREATED:20260411T004508Z
LAST-MODIFIED:20260411T004508Z
UID:10003016-1777314600-1777320000@atomjazznetwork.org
SUMMARY:Lamont Jazz Orchestra @ Dazzle
DESCRIPTION:Directed by Gabriel Santiago and Remy Le Boeuf
URL:https://atomjazznetwork.org/event/lamont-jazz-orchestra-dazzle/
LOCATION:Dazzle\, 1080 14th Street\, Denver\, CO\, 80202\, United States
CATEGORIES:Concerts
END:VEVENT
BEGIN:VEVENT
DTSTART;TZID=America/Denver:20260428T193000
DTEND;TZID=America/Denver:20260428T210000
DTSTAMP:20260423T035742
CREATED:20260422T034737Z
LAST-MODIFIED:20260422T034948Z
UID:10003060-1777404600-1777410000@atomjazznetwork.org
SUMMARY:Jazz Ensembles Concert @ CSU Griffin Hall
DESCRIPTION:TICKETED EVENT \nJazz Ensembles I and II\nDirected by Will Swindler & Darren Kramer\nwith guest artist Jonathan Kreisberg\, guitar
URL:https://atomjazznetwork.org/event/jazz-ensembles-concert-csu-griffin-hall/
LOCATION:CSU Center of the Arts\, 1400 Remington St\, Fort Collins\, CO\, 80524\, United States
CATEGORIES:Concerts
END:VEVENT
BEGIN:VEVENT
DTSTART;TZID=America/Denver:20260428T200000
DTEND;TZID=America/Denver:20260428T220000
DTSTAMP:20260423T035742
CREATED:20260331T154801Z
LAST-MODIFIED:20260331T154801Z
UID:10001568-1777406400-1777413600@atomjazznetwork.org
SUMMARY:Julie Koenig @ KRFC 88.9
DESCRIPTION:KRFC 88.9 Legends and Luminaries Jazz Club
URL:https://atomjazznetwork.org/event/julie-koenig-krfc-88-9/
LOCATION:KRFC Radio\, 619 S College Ave #2\, Fort Collins\, CO\, 80524\, United States
CATEGORIES:Concerts
END:VEVENT
BEGIN:VEVENT
DTSTART;TZID=America/Denver:20260430T190000
DTEND;TZID=America/Denver:20260430T203000
DTSTAMP:20260423T035742
CREATED:20260328T150700Z
LAST-MODIFIED:20260328T150700Z
UID:10001291-1777575600-1777581000@atomjazznetwork.org
SUMMARY:Daniel Trujillo Latin Jazz Party @ Dazzle
DESCRIPTION:
URL:https://atomjazznetwork.org/event/daniel-trujillo-latin-jazz-party-dazzle/
LOCATION:Dazzle\, 1080 14th Street\, Denver\, CO\, 80202\, United States
CATEGORIES:Concerts
END:VEVENT
BEGIN:VEVENT
DTSTART;TZID=America/Denver:20260430T190000
DTEND;TZID=America/Denver:20260430T203000
DTSTAMP:20260423T035742
CREATED:20260415T014535Z
LAST-MODIFIED:20260415T014535Z
UID:10003054-1777575600-1777581000@atomjazznetwork.org
SUMMARY:Mateus Gadaleta Senior Recital @ UNC Frasier
DESCRIPTION:Featuring\nCarlos Castellblanch\nEthan Grussgott\nGabe Rupe\nJeffery Wu\nMarvin Tercero Perez
URL:https://atomjazznetwork.org/event/mateus-gadaleta-senior-recital-unc-frasier/
LOCATION:Frasier Hall @ UNC\, University of Northern Colorado\, Frasier Hall\, 1710 9th Ave\, Greeley\, CO\, 80631\, United States
CATEGORIES:Concerts
END:VEVENT
END:VCALENDAR