BEGIN:VCALENDAR
VERSION:2.0
PRODID:-//Atom Jazz Network - ECPv6.15.20//NONSGML v1.0//EN
CALSCALE:GREGORIAN
METHOD:PUBLISH
X-ORIGINAL-URL:https://atomjazznetwork.org
X-WR-CALDESC:Events for Atom Jazz Network
REFRESH-INTERVAL;VALUE=DURATION:PT1H
X-Robots-Tag:noindex
X-PUBLISHED-TTL:PT1H
BEGIN:VTIMEZONE
TZID:America/Denver
BEGIN:DAYLIGHT
TZOFFSETFROM:-0700
TZOFFSETTO:-0600
TZNAME:MDT
DTSTART:20250309T090000
END:DAYLIGHT
BEGIN:STANDARD
TZOFFSETFROM:-0600
TZOFFSETTO:-0700
TZNAME:MST
DTSTART:20251102T080000
END:STANDARD
BEGIN:DAYLIGHT
TZOFFSETFROM:-0700
TZOFFSETTO:-0600
TZNAME:MDT
DTSTART:20260308T090000
END:DAYLIGHT
BEGIN:STANDARD
TZOFFSETFROM:-0600
TZOFFSETTO:-0700
TZNAME:MST
DTSTART:20261101T080000
END:STANDARD
BEGIN:DAYLIGHT
TZOFFSETFROM:-0700
TZOFFSETTO:-0600
TZNAME:MDT
DTSTART:20270314T090000
END:DAYLIGHT
BEGIN:STANDARD
TZOFFSETFROM:-0600
TZOFFSETTO:-0700
TZNAME:MST
DTSTART:20271107T080000
END:STANDARD
END:VTIMEZONE
BEGIN:VEVENT
DTSTART;TZID=America/Denver:20260423T000000
DTEND;TZID=America/Denver:20260425T235959
DTSTAMP:20260419T151608
CREATED:20260325T034538Z
LAST-MODIFIED:20260326T145605Z
UID:10000479-1776902400-1777161599@atomjazznetwork.org
SUMMARY:UNC Greeley Jazz Festival
DESCRIPTION:
URL:https://atomjazznetwork.org/event/unc-greeley-jazz-festival/
LOCATION:CO
CATEGORIES:Festival
END:VEVENT
BEGIN:VEVENT
DTSTART;TZID=America/Denver:20260423T163000
DTEND;TZID=America/Denver:20260423T190000
DTSTAMP:20260419T151608
CREATED:20260411T032730Z
LAST-MODIFIED:20260411T032730Z
UID:10003018-1776961800-1776970800@atomjazznetwork.org
SUMMARY:Alicia Olatuja & David Rosenthal + Walter Smith III & Skylar Tang with the Compass Jazz Orchestra @ UNC Jazz Fest
DESCRIPTION:TICKETED EVENT \nAlicia Olatuja & David Rosenthal\nRenowned for her breathtaking tone and expressive depth\, Alicia Olatuja brings her extraordinary artistry to the festival stage in a performance you won’t want to miss. \nA Centennial Celebration of Miles Davis & John Coltrane: Walter Smith III & Skylar Tang with the Compass Jazz Orchestra\nHonoring the 100th birthdays of two jazz icons with two of today’s most compelling voices in modern jazz\, joined by the Compass Jazz Orchestra in a powerful tribute performance.
URL:https://atomjazznetwork.org/event/alicia-olatuja-david-rosenthal-walter-smith-iii-skylar-tang-with-the-compass-jazz-orchestra-unc-jazz-fest/
LOCATION:UNC Campus Commons\, 1051 22nd St\, Greeley\, CO\, 80639\, United States
CATEGORIES:Festival
END:VEVENT
BEGIN:VEVENT
DTSTART;TZID=America/Denver:20260423T193000
DTEND;TZID=America/Denver:20260423T210000
DTSTAMP:20260419T151608
CREATED:20260411T032829Z
LAST-MODIFIED:20260411T032829Z
UID:10003019-1776972600-1776978000@atomjazznetwork.org
SUMMARY:Alicia Olatuja & David Rosenthal + Walter Smith III & Skylar Tang with the Compass Jazz Orchestra @ UNC Jazz Fest
DESCRIPTION:TICKETED EVENT \nAlicia Olatuja & David Rosenthal\nRenowned for her breathtaking tone and expressive depth\, Alicia Olatuja brings her extraordinary artistry to the festival stage in a performance you won’t want to miss. \nA Centennial Celebration of Miles Davis & John Coltrane: Walter Smith III & Skylar Tang with the Compass Jazz Orchestra\nHonoring the 100th birthdays of two jazz icons with two of today’s most compelling voices in modern jazz\, joined by the Compass Jazz Orchestra in a powerful tribute performance.
URL:https://atomjazznetwork.org/event/alicia-olatuja-david-rosenthal-walter-smith-iii-skylar-tang-with-the-compass-jazz-orchestra-unc-jazz-fest-2/
LOCATION:UNC Campus Commons\, 1051 22nd St\, Greeley\, CO\, 80639\, United States
CATEGORIES:Festival
END:VEVENT
BEGIN:VEVENT
DTSTART;TZID=America/Denver:20260424T000000
DTEND;TZID=America/Denver:20260425T235959
DTSTAMP:20260419T151608
CREATED:20260412T235320Z
LAST-MODIFIED:20260412T235320Z
UID:10003027-1776988800-1777161599@atomjazznetwork.org
SUMMARY:FoCoMX Festival
DESCRIPTION:
URL:https://atomjazznetwork.org/event/focomx-festival/
LOCATION:CO
CATEGORIES:Festival
END:VEVENT
BEGIN:VEVENT
DTSTART;TZID=America/Denver:20260424T163000
DTEND;TZID=America/Denver:20260424T190000
DTSTAMP:20260419T151608
CREATED:20260411T033004Z
LAST-MODIFIED:20260411T033004Z
UID:10003020-1777048200-1777057200@atomjazznetwork.org
SUMMARY:The Alfredo Rodriguez Quintet + A Tribute to Jaco Pastorius featuring the Compass Jazz Orchestra and special guest Victor Wooten @ UNC Jazz Fest
DESCRIPTION:TICKETED EVENT \nThe Alfredo Rodriguez Quintet \nInternationally acclaimed pianist and composer Alfredo Rodríguez brings his electrifying quintet to Greeley for a high-energy set blending virtuosity\, Cuban tradition\, and contemporary jazz innovation. \nA Tribute to Jaco Pastorius featuring the Compass Jazz Orchestra and special guest Victor Wooten \nThe award winning Compass Jazz Orchestra pays tribute to the legendary Jaco Pastorius in an electrifying performance featuring music from Weather Report\, the Word of Mouth Big Band\, and more. Joined by five-time Grammy-winning bassist Victor Wooten\, this set promises virtuosity\, groove\, and a celebration of one of the most influential bassists in jazz history.
URL:https://atomjazznetwork.org/event/the-alfredo-rodriguez-quintet-a-tribute-to-jaco-pastorius-featuring-the-compass-jazz-orchestra-and-special-guest-victor-wooten-unc-jazz-fest/
LOCATION:UNC Campus Commons\, 1051 22nd St\, Greeley\, CO\, 80639\, United States
CATEGORIES:Festival
END:VEVENT
BEGIN:VEVENT
DTSTART;TZID=America/Denver:20260424T164500
DTEND;TZID=America/Denver:20260424T180000
DTSTAMP:20260419T151608
CREATED:20260412T235428Z
LAST-MODIFIED:20260412T235428Z
UID:10003028-1777049100-1777053600@atomjazznetwork.org
SUMMARY:Defunkl @ Avogadro's
DESCRIPTION:
URL:https://atomjazznetwork.org/event/defunkl-avogadros/
LOCATION:Avogadro’s Number\, 605 South Mason Street\, Fort Collins\, CO\, 80524\, United States
CATEGORIES:Festival
END:VEVENT
BEGIN:VEVENT
DTSTART;TZID=America/Denver:20260424T171500
DTEND;TZID=America/Denver:20260424T183000
DTSTAMP:20260419T151608
CREATED:20260412T235804Z
LAST-MODIFIED:20260412T235826Z
UID:10003029-1777050900-1777055400@atomjazznetwork.org
SUMMARY:Missing Frequency @ MoA FoCo
DESCRIPTION:FoCoMX presents… \nThe newly minted Missing Frequency\, blends Jazz\, Rock\, and 20th Century Classical music in a unique packaging suited for both seasoned aficionados and newcomers to instrumental music. The trio is: Shilo on vibraphone played through guitar pedals\, Fort Collins staple Jo Asker on upright bass and effect pedals and Chris Hewitt on drums. We look forward to exploring what can happen in this intimate trio setting which allows us to pivot quickly while performing. We can jump from a Jazz standard to a rock cover in an instant! Adventurous in nature\, we enjoy going wherever the music might take us on a particular night. Our improvisation backgrounds provides freedom and trust as we navigate our diverse musical repertoire.
URL:https://atomjazznetwork.org/event/missing-frequency-moa-foco/
LOCATION:The Museum of Art Fort Collins\, 201 S College Ave\, Fort Collins\, CO\, 80524\, United States
CATEGORIES:Festival
END:VEVENT
BEGIN:VEVENT
DTSTART;TZID=America/Denver:20260424T193000
DTEND;TZID=America/Denver:20260424T210000
DTSTAMP:20260419T151608
CREATED:20260411T033019Z
LAST-MODIFIED:20260411T033019Z
UID:10003021-1777059000-1777064400@atomjazznetwork.org
SUMMARY:The Alfredo Rodriguez Quintet + A Tribute to Jaco Pastorius featuring the Compass Jazz Orchestra and special guest Victor Wooten @ UNC Jazz Fest
DESCRIPTION:TICKETED EVENT \nThe Alfredo Rodriguez Quintet \nInternationally acclaimed pianist and composer Alfredo Rodríguez brings his electrifying quintet to Greeley for a high-energy set blending virtuosity\, Cuban tradition\, and contemporary jazz innovation. \nA Tribute to Jaco Pastorius featuring the Compass Jazz Orchestra and special guest Victor Wooten \nThe award winning Compass Jazz Orchestra pays tribute to the legendary Jaco Pastorius in an electrifying performance featuring music from Weather Report\, the Word of Mouth Big Band\, and more. Joined by five-time Grammy-winning bassist Victor Wooten\, this set promises virtuosity\, groove\, and a celebration of one of the most influential bassists in jazz history.
URL:https://atomjazznetwork.org/event/the-alfredo-rodriguez-quintet-a-tribute-to-jaco-pastorius-featuring-the-compass-jazz-orchestra-and-special-guest-victor-wooten-unc-jazz-fest-2/
LOCATION:UNC Campus Commons\, 1051 22nd St\, Greeley\, CO\, 80639\, United States
CATEGORIES:Festival
END:VEVENT
BEGIN:VEVENT
DTSTART;TZID=America/Denver:20260424T204500
DTEND;TZID=America/Denver:20260424T214500
DTSTAMP:20260419T151608
CREATED:20260413T000130Z
LAST-MODIFIED:20260413T000130Z
UID:10003030-1777063500-1777067100@atomjazznetwork.org
SUMMARY:Amoeba Swing @ 830 North
DESCRIPTION:FoCoMX presents… \nNorthern Colorado’s premier hot club trio. Django lives!
URL:https://atomjazznetwork.org/event/amoeba-swing-830-north/
LOCATION:830 North\, 830 N College Ave\, Fort Collins\, CO\, 80524\, United States
CATEGORIES:Festival
END:VEVENT
BEGIN:VEVENT
DTSTART;TZID=America/Denver:20260424T221500
DTEND;TZID=America/Denver:20260424T235900
DTSTAMP:20260419T151608
CREATED:20260411T033407Z
LAST-MODIFIED:20260411T033647Z
UID:10003023-1777068900-1777075140@atomjazznetwork.org
SUMMARY:After Hours Session @ Moxi Theater (UNC Jazz Fest)
DESCRIPTION:First come\, first served – limited seating
URL:https://atomjazznetwork.org/event/after-hours-session-moxi-theater-unc-jazz-fest/
LOCATION:Moxi Theater\, 802 9th St\, Greeley\, CO\, 80631\, United States
CATEGORIES:Festival
END:VEVENT
BEGIN:VEVENT
DTSTART;TZID=America/Denver:20260425T144500
DTEND;TZID=America/Denver:20260425T154500
DTSTAMP:20260419T151608
CREATED:20260413T000321Z
LAST-MODIFIED:20260413T000321Z
UID:10003031-1777128300-1777131900@atomjazznetwork.org
SUMMARY:Colorado Swing Big Band @ The Lyric
DESCRIPTION:FoCoMX presents… \n 
URL:https://atomjazznetwork.org/event/colorado-swing-big-band-the-lyric/
LOCATION:The Lyric\, 1209 N College Ave\, Fort Collins\, 80524\, United States
CATEGORIES:Festival
END:VEVENT
BEGIN:VEVENT
DTSTART;TZID=America/Denver:20260425T160000
DTEND;TZID=America/Denver:20260425T170000
DTSTAMP:20260419T151608
CREATED:20260325T032019Z
LAST-MODIFIED:20260412T235049Z
UID:10000026-1777132800-1777136400@atomjazznetwork.org
SUMMARY:Spencer Zweifel & the Life or Death Situation @ The Lyric
DESCRIPTION:FOCOMX Presents…
URL:https://atomjazznetwork.org/event/spencer-zweifel-the-life-or-death-situation-the-lyric/
LOCATION:The Lyric\, 1209 N College Ave\, Fort Collins\, 80524\, United States
CATEGORIES:Festival
END:VEVENT
BEGIN:VEVENT
DTSTART;TZID=America/Denver:20260425T163000
DTEND;TZID=America/Denver:20260425T190000
DTSTAMP:20260419T151608
CREATED:20260411T033110Z
LAST-MODIFIED:20260411T033110Z
UID:10003022-1777134600-1777143600@atomjazznetwork.org
SUMMARY:Jeff Hamilton\, John Clayton & Larry Fuller + The Zaremba Jazz Fellowship with Wayne Bergeron @ UNC Jazz Fest
DESCRIPTION:TICKETED EVENT \nThe Legacy of Ray Brown: Jeff Hamilton\, Drums\, John Clayton\, Bass & Larry Fuller\, Piano \nWith Jeff Hamilton—former member of the Ray Brown Trio—and Larry Fuller\, who served as Ray’s final pianist\, this ensemble brings unparalleled authenticity to honoring Brown’s enduring influence. Joined by longtime collaborator John Clayton\, their performance promises swing\, depth\, and exceptional chemistry. \nThe Zaremba Jazz Fellowship with Wayne Bergeron \nThe inventive writing and electric energy of the Zaremba Jazz Fellowship—under the direction of Drew Zaremba—meets the powerhouse trumpet artistry of Wayne Bergeron for a high-octane big band experience.
URL:https://atomjazznetwork.org/event/jeff-hamilton-john-clayton-larry-fuller-the-zaremba-jazz-fellowship-with-wayne-bergeron-unc-jazz-fest/
LOCATION:UNC Campus Commons\, 1051 22nd St\, Greeley\, CO\, 80639\, United States
CATEGORIES:Festival
END:VEVENT
BEGIN:VEVENT
DTSTART;TZID=America/Denver:20260425T181500
DTEND;TZID=America/Denver:20260425T191500
DTSTAMP:20260419T151608
CREATED:20260413T000432Z
LAST-MODIFIED:20260413T000432Z
UID:10003032-1777140900-1777144500@atomjazznetwork.org
SUMMARY:Adam Bodine @ The Lyric
DESCRIPTION:FoCoMX presents…
URL:https://atomjazznetwork.org/event/adam-bodine-the-lyric/
LOCATION:The Lyric\, 1209 N College Ave\, Fort Collins\, 80524\, United States
CATEGORIES:Festival
END:VEVENT
BEGIN:VEVENT
DTSTART;TZID=America/Denver:20260425T221500
DTEND;TZID=America/Denver:20260425T231500
DTSTAMP:20260419T151608
CREATED:20260413T000541Z
LAST-MODIFIED:20260413T000541Z
UID:10003033-1777155300-1777158900@atomjazznetwork.org
SUMMARY:Guerrilla Fanfare @ Magic Rat
DESCRIPTION:FoCoMX presents…
URL:https://atomjazznetwork.org/event/guerrilla-fanfare-magic-rat/
LOCATION:Magic Rat\, 111 Chestnut St\, Fort Collins\, CO\, 80524\, United States
CATEGORIES:Festival
END:VEVENT
BEGIN:VEVENT
DTSTART;TZID=America/Denver:20260821T000000
DTEND;TZID=America/Denver:20260823T235959
DTSTAMP:20260419T151608
CREATED:20260326T153943Z
LAST-MODIFIED:20260326T153943Z
UID:10001147-1787270400-1787529599@atomjazznetwork.org
SUMMARY:Atom Jazz Fest
DESCRIPTION:
URL:https://atomjazznetwork.org/event/atom-jazz-fest/
LOCATION:Left Hand Garden\, 1245 Boston Ave\, Longmont\, CO\, 80501\, United States
CATEGORIES:Festival
END:VEVENT
BEGIN:VEVENT
DTSTART;TZID=America/Denver:20260821T180000
DTEND;TZID=America/Denver:20260821T210000
DTSTAMP:20260419T151608
CREATED:20260325T034528Z
LAST-MODIFIED:20260326T153859Z
UID:10000474-1787335200-1787346000@atomjazznetwork.org
SUMMARY:Atom Jazz Fest @ Left Hand Garden
DESCRIPTION:FREE | ALL AGESAtom Jazz Fest Kickoff Celebration!Atom Collective & friendsFeaturing Julie Koenig & Ryan McCurry
URL:https://atomjazznetwork.org/event/atom-jazz-fest-left-hand-garden-3/
LOCATION:Left Hand Garden\, 1245 Boston Ave\, Longmont\, CO\, 80501\, United States
CATEGORIES:Festival
ATTACH;FMTTYPE=image/png:https://atomjazznetwork.org/wp-content/uploads/2026/03/LHB-Jazz-Fest-Image-e1774490016305.png
END:VEVENT
BEGIN:VEVENT
DTSTART;TZID=America/Denver:20260822T120000
DTEND;TZID=America/Denver:20260822T210000
DTSTAMP:20260419T151608
CREATED:20260325T034514Z
LAST-MODIFIED:20260326T153905Z
UID:10000472-1787400000-1787432400@atomjazznetwork.org
SUMMARY:Atom Jazz Fest @ Left Hand Garden
DESCRIPTION:FREE | ALL AGES \nLongmont All-Star Jazz BandDeborah Stafford’s SwingtetBobby Wiens QuartetKrueger Brothers SextetAlex Loran SextetKen Walker Tribute Sextetw/ the CCJA Jazz Messengers at each break
URL:https://atomjazznetwork.org/event/atom-jazz-fest-left-hand-garden/
LOCATION:Left Hand Garden\, 1245 Boston Ave\, Longmont\, CO\, 80501\, United States
CATEGORIES:Festival
ATTACH;FMTTYPE=image/png:https://atomjazznetwork.org/wp-content/uploads/2026/03/LHB-Jazz-Fest-Image-e1774490016305.png
END:VEVENT
BEGIN:VEVENT
DTSTART;TZID=America/Denver:20260823T120000
DTEND;TZID=America/Denver:20260823T210000
DTSTAMP:20260419T151608
CREATED:20260325T034528Z
LAST-MODIFIED:20260326T153853Z
UID:10000473-1787486400-1787518800@atomjazznetwork.org
SUMMARY:Atom Jazz Fest @ Left Hand Garden
DESCRIPTION:Guerilla FanfareAdam Bodine QuintetSpace ForceStafford Hunter QuintetHeath Walton QuintetElectric Gizw/ the LASJB Combo at each break \n\n\n\n 
URL:https://atomjazznetwork.org/event/atom-jazz-fest-left-hand-garden-2/
LOCATION:Left Hand Garden\, 1245 Boston Ave\, Longmont\, CO\, 80501\, United States
CATEGORIES:Festival
ATTACH;FMTTYPE=image/png:https://atomjazznetwork.org/wp-content/uploads/2026/03/LHB-Jazz-Fest-Image-e1774490016305.png
END:VEVENT
END:VCALENDAR