BEGIN:VCALENDAR
VERSION:2.0
PRODID:-//Atom Jazz Network - ECPv6.15.20//NONSGML v1.0//EN
CALSCALE:GREGORIAN
METHOD:PUBLISH
X-WR-CALNAME:Atom Jazz Network
X-ORIGINAL-URL:https://atomjazznetwork.org
X-WR-CALDESC:Events for Atom Jazz Network
REFRESH-INTERVAL;VALUE=DURATION:PT1H
X-Robots-Tag:noindex
X-PUBLISHED-TTL:PT1H
BEGIN:VTIMEZONE
TZID:America/Denver
BEGIN:DAYLIGHT
TZOFFSETFROM:-0700
TZOFFSETTO:-0600
TZNAME:MDT
DTSTART:20250309T090000
END:DAYLIGHT
BEGIN:STANDARD
TZOFFSETFROM:-0600
TZOFFSETTO:-0700
TZNAME:MST
DTSTART:20251102T080000
END:STANDARD
BEGIN:DAYLIGHT
TZOFFSETFROM:-0700
TZOFFSETTO:-0600
TZNAME:MDT
DTSTART:20260308T090000
END:DAYLIGHT
BEGIN:STANDARD
TZOFFSETFROM:-0600
TZOFFSETTO:-0700
TZNAME:MST
DTSTART:20261101T080000
END:STANDARD
BEGIN:DAYLIGHT
TZOFFSETFROM:-0700
TZOFFSETTO:-0600
TZNAME:MDT
DTSTART:20270314T090000
END:DAYLIGHT
BEGIN:STANDARD
TZOFFSETFROM:-0600
TZOFFSETTO:-0700
TZNAME:MST
DTSTART:20271107T080000
END:STANDARD
END:VTIMEZONE
BEGIN:VEVENT
DTSTART;TZID=America/Denver:20260426T100000
DTEND;TZID=America/Denver:20260426T120000
DTSTAMP:20260423T033844
CREATED:20260401T165039Z
LAST-MODIFIED:20260401T165039Z
UID:10001572-1777197600-1777204800@atomjazznetwork.org
SUMMARY:Jazz Jam w/ Gary Sloan @ Vic's Again
DESCRIPTION:
URL:https://atomjazznetwork.org/event/jazz-jam-w-gary-sloan-vics-again/2026-04-26/
LOCATION:Vic’s Again\, 3305 30th St\, Boulder\, CO\, 80301\, United States
CATEGORIES:Jams
END:VEVENT
BEGIN:VEVENT
DTSTART;TZID=America/Denver:20260427T190000
DTEND;TZID=America/Denver:20260427T210000
DTSTAMP:20260423T033844
CREATED:20260326T043547Z
LAST-MODIFIED:20260326T043547Z
UID:10000878-1777316400-1777323600@atomjazznetwork.org
SUMMARY:Jazz Jam @ The Muse
DESCRIPTION:The Muse Jazz Jam is open to all ages and abilities. Bring your instrument/voice and play! Or\, just come in for a listen. Full backline support.
URL:https://atomjazznetwork.org/event/jazz-jam-the-muse-2/
LOCATION:The Muse\, 200 E South Boulder Rd\, Lafayette\, CO\, 80026\, United States
CATEGORIES:Jams
END:VEVENT
BEGIN:VEVENT
DTSTART;TZID=America/Denver:20260428T180000
DTEND;TZID=America/Denver:20260428T210000
DTSTAMP:20260423T033844
CREATED:20260326T145106Z
LAST-MODIFIED:20260326T145106Z
UID:10000890-1777399200-1777410000@atomjazznetwork.org
SUMMARY:Jazz Jam w/ Bobby Wiens @ 120 Bar & Grill
DESCRIPTION:
URL:https://atomjazznetwork.org/event/jazz-jam-w-bobby-wiens-120-bar-grill/2026-04-28/
LOCATION:120 Bar & Grill\, 120 N Lincoln Ave\, Loveland\, CO\, 80537\, United States
CATEGORIES:Jams
END:VEVENT
BEGIN:VEVENT
DTSTART;TZID=America/Denver:20260429T190000
DTEND;TZID=America/Denver:20260429T210000
DTSTAMP:20260423T033844
CREATED:20260401T192806Z
LAST-MODIFIED:20260401T192823Z
UID:10001439-1777489200-1777496400@atomjazznetwork.org
SUMMARY:Jazz Jam @ Patrick's Irish Pub
DESCRIPTION:UNC’s Jazz Jam opens every 1st and 3rd Wednesday where band members open for the first hour (7-8) then open the stage for locals to join in! Hosted by Tony Manoguerra.
URL:https://atomjazznetwork.org/event/jazz-jam-patricks-irish-pub/2026-04-29/
LOCATION:Patrick’s Irish Pub\, 909 8th Ave\, Greeley\, CO\, 80631\, United States
CATEGORIES:Jams
END:VEVENT
BEGIN:VEVENT
DTSTART;TZID=America/Denver:20260429T190000
DTEND;TZID=America/Denver:20260429T213000
DTSTAMP:20260423T033844
CREATED:20260422T035318Z
LAST-MODIFIED:20260422T035318Z
UID:10003062-1777489200-1777498200@atomjazznetwork.org
SUMMARY:Jazz Jam w/ Steve Johnson @ Island Grill
DESCRIPTION:
URL:https://atomjazznetwork.org/event/jazz-jam-w-steve-johnson-island-grill/2026-04-29/
LOCATION:Island Grill\, 2601 S Lemay Ave #12\, Fort Collins\, CO\, 80525\, United States
CATEGORIES:Jams
END:VEVENT
END:VCALENDAR