BEGIN:VCALENDAR
VERSION:2.0
PRODID:-//Atom Jazz Network - ECPv6.15.20//NONSGML v1.0//EN
CALSCALE:GREGORIAN
METHOD:PUBLISH
X-WR-CALNAME:Atom Jazz Network
X-ORIGINAL-URL:https://atomjazznetwork.org
X-WR-CALDESC:Events for Atom Jazz Network
REFRESH-INTERVAL;VALUE=DURATION:PT1H
X-Robots-Tag:noindex
X-PUBLISHED-TTL:PT1H
BEGIN:VTIMEZONE
TZID:America/Denver
BEGIN:DAYLIGHT
TZOFFSETFROM:-0700
TZOFFSETTO:-0600
TZNAME:MDT
DTSTART:20250309T090000
END:DAYLIGHT
BEGIN:STANDARD
TZOFFSETFROM:-0600
TZOFFSETTO:-0700
TZNAME:MST
DTSTART:20251102T080000
END:STANDARD
BEGIN:DAYLIGHT
TZOFFSETFROM:-0700
TZOFFSETTO:-0600
TZNAME:MDT
DTSTART:20260308T090000
END:DAYLIGHT
BEGIN:STANDARD
TZOFFSETFROM:-0600
TZOFFSETTO:-0700
TZNAME:MST
DTSTART:20261101T080000
END:STANDARD
BEGIN:DAYLIGHT
TZOFFSETFROM:-0700
TZOFFSETTO:-0600
TZNAME:MDT
DTSTART:20270314T090000
END:DAYLIGHT
BEGIN:STANDARD
TZOFFSETFROM:-0600
TZOFFSETTO:-0700
TZNAME:MST
DTSTART:20271107T080000
END:STANDARD
END:VTIMEZONE
BEGIN:VEVENT
DTSTART;TZID=America/Denver:20260423T180000
DTEND;TZID=America/Denver:20260423T210000
DTSTAMP:20260423T040052
CREATED:20260325T031828Z
LAST-MODIFIED:20260402T173056Z
UID:10000011-1776967200-1776978000@atomjazznetwork.org
SUMMARY:Soul Station @ St Julien Hotel
DESCRIPTION:
URL:https://atomjazznetwork.org/event/soul-station-jazz-at-the-julien/
LOCATION:St Julien Hotel\, 900 Walnut St\, Boulder\, CO\, 80302\, United States
CATEGORIES:Gigs
END:VEVENT
BEGIN:VEVENT
DTSTART;TZID=America/Denver:20260424T173000
DTEND;TZID=America/Denver:20260424T203000
DTSTAMP:20260423T040052
CREATED:20260411T034006Z
LAST-MODIFIED:20260420T023916Z
UID:10001834-1777051800-1777062600@atomjazznetwork.org
SUMMARY:Atom Collective @ Left Hand Jazz Night
DESCRIPTION:
URL:https://atomjazznetwork.org/event/atom-collective-left-hand-jazz-night-2/
LOCATION:Left Hand Taproom\, 1270 Boston Ave\, Longmont\, CO\, 80501\, United States
CATEGORIES:Gigs
END:VEVENT
BEGIN:VEVENT
DTSTART;TZID=America/Denver:20260430T180000
DTEND;TZID=America/Denver:20260430T210000
DTSTAMP:20260423T040052
CREATED:20260325T031828Z
LAST-MODIFIED:20260402T195402Z
UID:10000012-1777572000-1777582800@atomjazznetwork.org
SUMMARY:Domi Edson @ St Julien Hotel
DESCRIPTION:
URL:https://atomjazznetwork.org/event/domi-edson-jazz-at-the-julien/
LOCATION:St Julien Hotel\, 900 Walnut St\, Boulder\, CO\, 80302\, United States
CATEGORIES:Gigs
END:VEVENT
END:VCALENDAR