BEGIN:VCALENDAR
VERSION:2.0
PRODID:-//Atom Jazz Network - ECPv6.15.20//NONSGML v1.0//EN
CALSCALE:GREGORIAN
METHOD:PUBLISH
X-WR-CALNAME:Atom Jazz Network
X-ORIGINAL-URL:https://atomjazznetwork.org
X-WR-CALDESC:Events for Atom Jazz Network
REFRESH-INTERVAL;VALUE=DURATION:PT1H
X-Robots-Tag:noindex
X-PUBLISHED-TTL:PT1H
BEGIN:VTIMEZONE
TZID:America/Denver
BEGIN:DAYLIGHT
TZOFFSETFROM:-0700
TZOFFSETTO:-0600
TZNAME:MDT
DTSTART:20250309T090000
END:DAYLIGHT
BEGIN:STANDARD
TZOFFSETFROM:-0600
TZOFFSETTO:-0700
TZNAME:MST
DTSTART:20251102T080000
END:STANDARD
BEGIN:DAYLIGHT
TZOFFSETFROM:-0700
TZOFFSETTO:-0600
TZNAME:MDT
DTSTART:20260308T090000
END:DAYLIGHT
BEGIN:STANDARD
TZOFFSETFROM:-0600
TZOFFSETTO:-0700
TZNAME:MST
DTSTART:20261101T080000
END:STANDARD
BEGIN:DAYLIGHT
TZOFFSETFROM:-0700
TZOFFSETTO:-0600
TZNAME:MDT
DTSTART:20270314T090000
END:DAYLIGHT
BEGIN:STANDARD
TZOFFSETFROM:-0600
TZOFFSETTO:-0700
TZNAME:MST
DTSTART:20271107T080000
END:STANDARD
END:VTIMEZONE
BEGIN:VEVENT
DTSTART;TZID=America/Denver:20260423T180000
DTEND;TZID=America/Denver:20260423T210000
DTSTAMP:20260419T055833
CREATED:20260325T031828Z
LAST-MODIFIED:20260402T173056Z
UID:10000011-1776967200-1776978000@atomjazznetwork.org
SUMMARY:Soul Station @ St Julien Hotel
DESCRIPTION:
URL:https://atomjazznetwork.org/event/soul-station-jazz-at-the-julien/
LOCATION:St Julien Hotel\, 900 Walnut St\, Boulder\, CO\, 80302\, United States
CATEGORIES:Gigs
END:VEVENT
BEGIN:VEVENT
DTSTART;TZID=America/Denver:20260417T173000
DTEND;TZID=America/Denver:20260417T203000
DTSTAMP:20260419T055833
CREATED:20260325T031825Z
LAST-MODIFIED:20260402T172048Z
UID:10001834-1776447000-1776457800@atomjazznetwork.org
SUMMARY:Atom Collective @ Left Hand Jazz Night
DESCRIPTION:
URL:https://atomjazznetwork.org/event/atom-collective-left-hand-jazz-night/2026-04-17/
LOCATION:Left Hand Taproom\, 1270 Boston Ave\, Longmont\, CO\, 80501\, United States
CATEGORIES:Gigs
END:VEVENT
BEGIN:VEVENT
DTSTART;TZID=America/Denver:20260430T180000
DTEND;TZID=America/Denver:20260430T210000
DTSTAMP:20260419T055833
CREATED:20260325T031828Z
LAST-MODIFIED:20260402T195402Z
UID:10000012-1777572000-1777582800@atomjazznetwork.org
SUMMARY:Domi Edson @ St Julien Hotel
DESCRIPTION:
URL:https://atomjazznetwork.org/event/domi-edson-jazz-at-the-julien/
LOCATION:St Julien Hotel\, 900 Walnut St\, Boulder\, CO\, 80302\, United States
CATEGORIES:Gigs
END:VEVENT
BEGIN:VEVENT
DTSTART;TZID=America/Denver:20260503T190000
DTEND;TZID=America/Denver:20260503T203000
DTSTAMP:20260419T055833
CREATED:20260325T034459Z
LAST-MODIFIED:20260328T214341Z
UID:10000460-1777834800-1777840200@atomjazznetwork.org
SUMMARY:Longmont All Stars Jazz Band @ the Muse
DESCRIPTION:The Longmont All-Star Jazz Band is a year-round supplementary option for students enrolled in their high school music programs with an interest in jazz in the greater Boulder County area. To hone their craft in a professional environment with featured masterclasses and sectional guest artists\, and regular performances within their community.
URL:https://atomjazznetwork.org/event/longmont-all-stars-jazz-band-the-muse/
LOCATION:The Muse\, 200 E South Boulder Rd\, Lafayette\, CO\, 80026\, United States
CATEGORIES:Concerts
END:VEVENT
BEGIN:VEVENT
DTSTART;TZID=America/Denver:20260504T000000
DTEND;TZID=America/Denver:20260504T235959
DTSTAMP:20260419T055833
CREATED:20260407T212601Z
LAST-MODIFIED:20260407T212601Z
UID:10002487-1777852800-1777939199@atomjazznetwork.org
SUMMARY:Ron Carter's Birthday!
DESCRIPTION:
URL:https://atomjazznetwork.org/event/ron-carters-birthday/
LOCATION:CO
END:VEVENT
BEGIN:VEVENT
DTSTART;TZID=America/Denver:20260507T180000
DTEND;TZID=America/Denver:20260507T210000
DTSTAMP:20260419T055833
CREATED:20260325T031843Z
LAST-MODIFIED:20260402T183451Z
UID:10000013-1778176800-1778187600@atomjazznetwork.org
SUMMARY:Adam Bodine @ St Julien Hotel
DESCRIPTION:Weekly series presented by the Atom Jazz Network\, live at the St Julien Hotel in Boulder\, CO.
URL:https://atomjazznetwork.org/event/adam-bodine-jazz-at-the-julien-2/
LOCATION:St Julien Hotel\, 900 Walnut St\, Boulder\, CO\, 80302\, United States
CATEGORIES:Gigs
END:VEVENT
BEGIN:VEVENT
DTSTART;TZID=America/Denver:20260521T180000
DTEND;TZID=America/Denver:20260521T210000
DTSTAMP:20260419T055833
CREATED:20260325T031843Z
LAST-MODIFIED:20260402T172900Z
UID:10000015-1779386400-1779397200@atomjazznetwork.org
SUMMARY:Bobby Wiens @ St Julien Hotel
DESCRIPTION:
URL:https://atomjazznetwork.org/event/bobby-weins-jazz-at-the-julien/
LOCATION:St Julien Hotel\, 900 Walnut St\, Boulder\, CO\, 80302\, United States
CATEGORIES:Gigs
END:VEVENT
BEGIN:VEVENT
DTSTART;TZID=America/Denver:20260528T180000
DTEND;TZID=America/Denver:20260528T210000
DTSTAMP:20260419T055833
CREATED:20260325T031843Z
LAST-MODIFIED:20260402T172848Z
UID:10000016-1779991200-1780002000@atomjazznetwork.org
SUMMARY:Atom Collective @ St Julien Hotel
DESCRIPTION:
URL:https://atomjazznetwork.org/event/atom-collective-jazz-at-the-julien-2/
LOCATION:St Julien Hotel\, 900 Walnut St\, Boulder\, CO\, 80302\, United States
CATEGORIES:Gigs
END:VEVENT
BEGIN:VEVENT
DTSTART;TZID=America/Denver:20260531T180000
DTEND;TZID=America/Denver:20260531T193000
DTSTAMP:20260419T055833
CREATED:20260325T032019Z
LAST-MODIFIED:20260326T034210Z
UID:10000023-1780250400-1780255800@atomjazznetwork.org
SUMMARY:Bobby Wiens Album Release @ Dazzle
DESCRIPTION:Don’t miss the album release show for Denver-based jazz drummer\, Bobby Wiens\, who put out his second record as a leader on March 31\, 2026. \nHis follow-up to “Talking Drums” (Cellar Music\, 2020) takes a slight detour conceptually from his debut record\, but in a way that undoubtedly highlights his growth as an artist. \nHe is joined by Gabe Mervine on trumpet\, Tom Amend on piano and keyboards\, and Seth Lewis on bass. The sound this band creates together is exceptional and quite unique as they explore a wide range of musical landscapes… You’ll hear some of Wiens’ most prominent musical references and inspirations throughout this performance\, all wrapped into his own cohesive and eclectic compositional approach. \nYou never know exactly what you’ll hear when this band performs\, but you’re guaranteed to witness diversity of sound\, depth of emotion\, masterful interaction\, and downright swinging music! \nGabriel Mervine – trumpet\nTom Amend – piano/keys\nSeth Lewis – bass\nBobby Wiens – drums \nTickets range $18.85 to $30.25
URL:https://atomjazznetwork.org/event/bobby-wiens-album-release-dazzle/
LOCATION:Dazzle\, 1080 14th Street\, Denver\, CO\, 80202\, United States
CATEGORIES:Concerts
ATTACH;FMTTYPE=image/jpeg:https://atomjazznetwork.org/wp-content/uploads/2026/03/Bobby_40-scaled.jpg
END:VEVENT
BEGIN:VEVENT
DTSTART;TZID=America/Denver:20260611T180000
DTEND;TZID=America/Denver:20260611T210000
DTSTAMP:20260419T055833
CREATED:20260325T032316Z
LAST-MODIFIED:20260402T172832Z
UID:10000039-1781200800-1781211600@atomjazznetwork.org
SUMMARY:Eric Rosa @ St Julien Hotel
DESCRIPTION:
URL:https://atomjazznetwork.org/event/eric-rosa-jazz-at-the-julien/
LOCATION:St Julien Hotel\, 900 Walnut St\, Boulder\, CO\, 80302\, United States
CATEGORIES:Gigs
END:VEVENT
BEGIN:VEVENT
DTSTART;TZID=America/Denver:20260618T180000
DTEND;TZID=America/Denver:20260618T220000
DTSTAMP:20260419T055833
CREATED:20260325T032547Z
LAST-MODIFIED:20260402T173144Z
UID:10000183-1781805600-1781820000@atomjazznetwork.org
SUMMARY:Stafford Hunter @ St Julien Hotel
DESCRIPTION:
URL:https://atomjazznetwork.org/event/stafford-hunter-jazz-at-the-julien/
LOCATION:St Julien Hotel\, 900 Walnut St\, Boulder\, CO\, 80302\, United States
CATEGORIES:Gigs
END:VEVENT
BEGIN:VEVENT
DTSTART;TZID=America/Denver:20260625T180000
DTEND;TZID=America/Denver:20260625T210000
DTSTAMP:20260419T055833
CREATED:20260325T032308Z
LAST-MODIFIED:20260402T173158Z
UID:10000037-1782410400-1782421200@atomjazznetwork.org
SUMMARY:Atom Collective @ St Julien Hotel
DESCRIPTION:
URL:https://atomjazznetwork.org/event/atom-collective-jazz-at-the-julien-3/
LOCATION:St Julien Hotel\, 900 Walnut St\, Boulder\, CO\, 80302\, United States
CATEGORIES:Gigs
END:VEVENT
BEGIN:VEVENT
DTSTART;TZID=America/Denver:20260821T000000
DTEND;TZID=America/Denver:20260823T235959
DTSTAMP:20260419T055833
CREATED:20260326T153943Z
LAST-MODIFIED:20260326T153943Z
UID:10001147-1787270400-1787529599@atomjazznetwork.org
SUMMARY:Atom Jazz Fest
DESCRIPTION:
URL:https://atomjazznetwork.org/event/atom-jazz-fest/
LOCATION:Left Hand Garden\, 1245 Boston Ave\, Longmont\, CO\, 80501\, United States
CATEGORIES:Festival
END:VEVENT
BEGIN:VEVENT
DTSTART;TZID=America/Denver:20260821T180000
DTEND;TZID=America/Denver:20260821T210000
DTSTAMP:20260419T055833
CREATED:20260325T034528Z
LAST-MODIFIED:20260326T153859Z
UID:10000474-1787335200-1787346000@atomjazznetwork.org
SUMMARY:Atom Jazz Fest @ Left Hand Garden
DESCRIPTION:FREE | ALL AGESAtom Jazz Fest Kickoff Celebration!Atom Collective & friendsFeaturing Julie Koenig & Ryan McCurry
URL:https://atomjazznetwork.org/event/atom-jazz-fest-left-hand-garden-3/
LOCATION:Left Hand Garden\, 1245 Boston Ave\, Longmont\, CO\, 80501\, United States
CATEGORIES:Festival
ATTACH;FMTTYPE=image/png:https://atomjazznetwork.org/wp-content/uploads/2026/03/LHB-Jazz-Fest-Image-e1774490016305.png
END:VEVENT
BEGIN:VEVENT
DTSTART;TZID=America/Denver:20260822T120000
DTEND;TZID=America/Denver:20260822T210000
DTSTAMP:20260419T055833
CREATED:20260325T034514Z
LAST-MODIFIED:20260326T153905Z
UID:10000472-1787400000-1787432400@atomjazznetwork.org
SUMMARY:Atom Jazz Fest @ Left Hand Garden
DESCRIPTION:FREE | ALL AGES \nLongmont All-Star Jazz BandDeborah Stafford’s SwingtetBobby Wiens QuartetKrueger Brothers SextetAlex Loran SextetKen Walker Tribute Sextetw/ the CCJA Jazz Messengers at each break
URL:https://atomjazznetwork.org/event/atom-jazz-fest-left-hand-garden/
LOCATION:Left Hand Garden\, 1245 Boston Ave\, Longmont\, CO\, 80501\, United States
CATEGORIES:Festival
ATTACH;FMTTYPE=image/png:https://atomjazznetwork.org/wp-content/uploads/2026/03/LHB-Jazz-Fest-Image-e1774490016305.png
END:VEVENT
BEGIN:VEVENT
DTSTART;TZID=America/Denver:20260823T120000
DTEND;TZID=America/Denver:20260823T210000
DTSTAMP:20260419T055833
CREATED:20260325T034528Z
LAST-MODIFIED:20260326T153853Z
UID:10000473-1787486400-1787518800@atomjazznetwork.org
SUMMARY:Atom Jazz Fest @ Left Hand Garden
DESCRIPTION:Guerilla FanfareAdam Bodine QuintetSpace ForceStafford Hunter QuintetHeath Walton QuintetElectric Gizw/ the LASJB Combo at each break \n\n\n\n 
URL:https://atomjazznetwork.org/event/atom-jazz-fest-left-hand-garden-2/
LOCATION:Left Hand Garden\, 1245 Boston Ave\, Longmont\, CO\, 80501\, United States
CATEGORIES:Festival
ATTACH;FMTTYPE=image/png:https://atomjazznetwork.org/wp-content/uploads/2026/03/LHB-Jazz-Fest-Image-e1774490016305.png
END:VEVENT
END:VCALENDAR