BEGIN:VCALENDAR
VERSION:2.0
PRODID:-//Atom Jazz Network - ECPv6.15.20//NONSGML v1.0//EN
CALSCALE:GREGORIAN
METHOD:PUBLISH
X-WR-CALNAME:Atom Jazz Network
X-ORIGINAL-URL:https://atomjazznetwork.org
X-WR-CALDESC:Events for Atom Jazz Network
REFRESH-INTERVAL;VALUE=DURATION:PT1H
X-Robots-Tag:noindex
X-PUBLISHED-TTL:PT1H
BEGIN:VTIMEZONE
TZID:America/Denver
BEGIN:DAYLIGHT
TZOFFSETFROM:-0700
TZOFFSETTO:-0600
TZNAME:MDT
DTSTART:20250309T090000
END:DAYLIGHT
BEGIN:STANDARD
TZOFFSETFROM:-0600
TZOFFSETTO:-0700
TZNAME:MST
DTSTART:20251102T080000
END:STANDARD
BEGIN:DAYLIGHT
TZOFFSETFROM:-0700
TZOFFSETTO:-0600
TZNAME:MDT
DTSTART:20260308T090000
END:DAYLIGHT
BEGIN:STANDARD
TZOFFSETFROM:-0600
TZOFFSETTO:-0700
TZNAME:MST
DTSTART:20261101T080000
END:STANDARD
BEGIN:DAYLIGHT
TZOFFSETFROM:-0700
TZOFFSETTO:-0600
TZNAME:MDT
DTSTART:20270314T090000
END:DAYLIGHT
BEGIN:STANDARD
TZOFFSETFROM:-0600
TZOFFSETTO:-0700
TZNAME:MST
DTSTART:20271107T080000
END:STANDARD
END:VTIMEZONE
BEGIN:VEVENT
DTSTART;TZID=America/Denver:20260428T180000
DTEND;TZID=America/Denver:20260428T210000
DTSTAMP:20260423T022844
CREATED:20260326T145106Z
LAST-MODIFIED:20260326T145106Z
UID:10000890-1777399200-1777410000@atomjazznetwork.org
SUMMARY:Jazz Jam w/ Bobby Wiens @ 120 Bar & Grill
DESCRIPTION:
URL:https://atomjazznetwork.org/event/jazz-jam-w-bobby-wiens-120-bar-grill/2026-04-28/
LOCATION:120 Bar & Grill\, 120 N Lincoln Ave\, Loveland\, CO\, 80537\, United States
CATEGORIES:Jams
END:VEVENT
BEGIN:VEVENT
DTSTART;TZID=America/Denver:20260505T180000
DTEND;TZID=America/Denver:20260505T210000
DTSTAMP:20260423T022844
CREATED:20260326T145106Z
LAST-MODIFIED:20260326T145106Z
UID:10000891-1778004000-1778014800@atomjazznetwork.org
SUMMARY:Jazz Jam w/ Bobby Wiens @ 120 Bar & Grill
DESCRIPTION:
URL:https://atomjazznetwork.org/event/jazz-jam-w-bobby-wiens-120-bar-grill/2026-05-05/
LOCATION:120 Bar & Grill\, 120 N Lincoln Ave\, Loveland\, CO\, 80537\, United States
CATEGORIES:Jams
END:VEVENT
BEGIN:VEVENT
DTSTART;TZID=America/Denver:20260512T180000
DTEND;TZID=America/Denver:20260512T210000
DTSTAMP:20260423T022844
CREATED:20260326T145106Z
LAST-MODIFIED:20260326T145106Z
UID:10000892-1778608800-1778619600@atomjazznetwork.org
SUMMARY:Jazz Jam w/ Bobby Wiens @ 120 Bar & Grill
DESCRIPTION:
URL:https://atomjazznetwork.org/event/jazz-jam-w-bobby-wiens-120-bar-grill/2026-05-12/
LOCATION:120 Bar & Grill\, 120 N Lincoln Ave\, Loveland\, CO\, 80537\, United States
CATEGORIES:Jams
END:VEVENT
BEGIN:VEVENT
DTSTART;TZID=America/Denver:20260519T180000
DTEND;TZID=America/Denver:20260519T210000
DTSTAMP:20260423T022844
CREATED:20260326T145106Z
LAST-MODIFIED:20260326T145106Z
UID:10000893-1779213600-1779224400@atomjazznetwork.org
SUMMARY:Jazz Jam w/ Bobby Wiens @ 120 Bar & Grill
DESCRIPTION:
URL:https://atomjazznetwork.org/event/jazz-jam-w-bobby-wiens-120-bar-grill/2026-05-19/
LOCATION:120 Bar & Grill\, 120 N Lincoln Ave\, Loveland\, CO\, 80537\, United States
CATEGORIES:Jams
END:VEVENT
BEGIN:VEVENT
DTSTART;TZID=America/Denver:20260526T180000
DTEND;TZID=America/Denver:20260526T210000
DTSTAMP:20260423T022844
CREATED:20260326T145106Z
LAST-MODIFIED:20260326T145106Z
UID:10000894-1779818400-1779829200@atomjazznetwork.org
SUMMARY:Jazz Jam w/ Bobby Wiens @ 120 Bar & Grill
DESCRIPTION:
URL:https://atomjazznetwork.org/event/jazz-jam-w-bobby-wiens-120-bar-grill/2026-05-26/
LOCATION:120 Bar & Grill\, 120 N Lincoln Ave\, Loveland\, CO\, 80537\, United States
CATEGORIES:Jams
END:VEVENT
BEGIN:VEVENT
DTSTART;TZID=America/Denver:20260602T180000
DTEND;TZID=America/Denver:20260602T210000
DTSTAMP:20260423T022844
CREATED:20260326T145106Z
LAST-MODIFIED:20260326T145106Z
UID:10000895-1780423200-1780434000@atomjazznetwork.org
SUMMARY:Jazz Jam w/ Bobby Wiens @ 120 Bar & Grill
DESCRIPTION:
URL:https://atomjazznetwork.org/event/jazz-jam-w-bobby-wiens-120-bar-grill/2026-06-02/
LOCATION:120 Bar & Grill\, 120 N Lincoln Ave\, Loveland\, CO\, 80537\, United States
CATEGORIES:Jams
END:VEVENT
BEGIN:VEVENT
DTSTART;TZID=America/Denver:20260609T180000
DTEND;TZID=America/Denver:20260609T210000
DTSTAMP:20260423T022844
CREATED:20260326T145106Z
LAST-MODIFIED:20260326T145106Z
UID:10000896-1781028000-1781038800@atomjazznetwork.org
SUMMARY:Jazz Jam w/ Bobby Wiens @ 120 Bar & Grill
DESCRIPTION:
URL:https://atomjazznetwork.org/event/jazz-jam-w-bobby-wiens-120-bar-grill/2026-06-09/
LOCATION:120 Bar & Grill\, 120 N Lincoln Ave\, Loveland\, CO\, 80537\, United States
CATEGORIES:Jams
END:VEVENT
BEGIN:VEVENT
DTSTART;TZID=America/Denver:20260616T180000
DTEND;TZID=America/Denver:20260616T210000
DTSTAMP:20260423T022844
CREATED:20260326T145106Z
LAST-MODIFIED:20260326T145106Z
UID:10000897-1781632800-1781643600@atomjazznetwork.org
SUMMARY:Jazz Jam w/ Bobby Wiens @ 120 Bar & Grill
DESCRIPTION:
URL:https://atomjazznetwork.org/event/jazz-jam-w-bobby-wiens-120-bar-grill/2026-06-16/
LOCATION:120 Bar & Grill\, 120 N Lincoln Ave\, Loveland\, CO\, 80537\, United States
CATEGORIES:Jams
END:VEVENT
BEGIN:VEVENT
DTSTART;TZID=America/Denver:20260623T180000
DTEND;TZID=America/Denver:20260623T210000
DTSTAMP:20260423T022844
CREATED:20260326T145106Z
LAST-MODIFIED:20260326T145106Z
UID:10000898-1782237600-1782248400@atomjazznetwork.org
SUMMARY:Jazz Jam w/ Bobby Wiens @ 120 Bar & Grill
DESCRIPTION:
URL:https://atomjazznetwork.org/event/jazz-jam-w-bobby-wiens-120-bar-grill/2026-06-23/
LOCATION:120 Bar & Grill\, 120 N Lincoln Ave\, Loveland\, CO\, 80537\, United States
CATEGORIES:Jams
END:VEVENT
BEGIN:VEVENT
DTSTART;TZID=America/Denver:20260630T180000
DTEND;TZID=America/Denver:20260630T210000
DTSTAMP:20260423T022844
CREATED:20260326T145106Z
LAST-MODIFIED:20260326T145106Z
UID:10000899-1782842400-1782853200@atomjazznetwork.org
SUMMARY:Jazz Jam w/ Bobby Wiens @ 120 Bar & Grill
DESCRIPTION:
URL:https://atomjazznetwork.org/event/jazz-jam-w-bobby-wiens-120-bar-grill/2026-06-30/
LOCATION:120 Bar & Grill\, 120 N Lincoln Ave\, Loveland\, CO\, 80537\, United States
CATEGORIES:Jams
END:VEVENT
BEGIN:VEVENT
DTSTART;TZID=America/Denver:20260707T180000
DTEND;TZID=America/Denver:20260707T210000
DTSTAMP:20260423T022844
CREATED:20260326T145106Z
LAST-MODIFIED:20260326T145106Z
UID:10000900-1783447200-1783458000@atomjazznetwork.org
SUMMARY:Jazz Jam w/ Bobby Wiens @ 120 Bar & Grill
DESCRIPTION:
URL:https://atomjazznetwork.org/event/jazz-jam-w-bobby-wiens-120-bar-grill/2026-07-07/
LOCATION:120 Bar & Grill\, 120 N Lincoln Ave\, Loveland\, CO\, 80537\, United States
CATEGORIES:Jams
END:VEVENT
BEGIN:VEVENT
DTSTART;TZID=America/Denver:20260714T180000
DTEND;TZID=America/Denver:20260714T210000
DTSTAMP:20260423T022844
CREATED:20260326T145106Z
LAST-MODIFIED:20260326T145106Z
UID:10000901-1784052000-1784062800@atomjazznetwork.org
SUMMARY:Jazz Jam w/ Bobby Wiens @ 120 Bar & Grill
DESCRIPTION:
URL:https://atomjazznetwork.org/event/jazz-jam-w-bobby-wiens-120-bar-grill/2026-07-14/
LOCATION:120 Bar & Grill\, 120 N Lincoln Ave\, Loveland\, CO\, 80537\, United States
CATEGORIES:Jams
END:VEVENT
BEGIN:VEVENT
DTSTART;TZID=America/Denver:20260721T180000
DTEND;TZID=America/Denver:20260721T210000
DTSTAMP:20260423T022844
CREATED:20260326T145106Z
LAST-MODIFIED:20260326T145106Z
UID:10000902-1784656800-1784667600@atomjazznetwork.org
SUMMARY:Jazz Jam w/ Bobby Wiens @ 120 Bar & Grill
DESCRIPTION:
URL:https://atomjazznetwork.org/event/jazz-jam-w-bobby-wiens-120-bar-grill/2026-07-21/
LOCATION:120 Bar & Grill\, 120 N Lincoln Ave\, Loveland\, CO\, 80537\, United States
CATEGORIES:Jams
END:VEVENT
BEGIN:VEVENT
DTSTART;TZID=America/Denver:20260728T180000
DTEND;TZID=America/Denver:20260728T210000
DTSTAMP:20260423T022844
CREATED:20260326T145106Z
LAST-MODIFIED:20260326T145106Z
UID:10000903-1785261600-1785272400@atomjazznetwork.org
SUMMARY:Jazz Jam w/ Bobby Wiens @ 120 Bar & Grill
DESCRIPTION:
URL:https://atomjazznetwork.org/event/jazz-jam-w-bobby-wiens-120-bar-grill/2026-07-28/
LOCATION:120 Bar & Grill\, 120 N Lincoln Ave\, Loveland\, CO\, 80537\, United States
CATEGORIES:Jams
END:VEVENT
BEGIN:VEVENT
DTSTART;TZID=America/Denver:20260804T180000
DTEND;TZID=America/Denver:20260804T210000
DTSTAMP:20260423T022844
CREATED:20260326T145106Z
LAST-MODIFIED:20260326T145106Z
UID:10000904-1785866400-1785877200@atomjazznetwork.org
SUMMARY:Jazz Jam w/ Bobby Wiens @ 120 Bar & Grill
DESCRIPTION:
URL:https://atomjazznetwork.org/event/jazz-jam-w-bobby-wiens-120-bar-grill/2026-08-04/
LOCATION:120 Bar & Grill\, 120 N Lincoln Ave\, Loveland\, CO\, 80537\, United States
CATEGORIES:Jams
END:VEVENT
BEGIN:VEVENT
DTSTART;TZID=America/Denver:20260811T180000
DTEND;TZID=America/Denver:20260811T210000
DTSTAMP:20260423T022844
CREATED:20260326T145106Z
LAST-MODIFIED:20260326T145106Z
UID:10000905-1786471200-1786482000@atomjazznetwork.org
SUMMARY:Jazz Jam w/ Bobby Wiens @ 120 Bar & Grill
DESCRIPTION:
URL:https://atomjazznetwork.org/event/jazz-jam-w-bobby-wiens-120-bar-grill/2026-08-11/
LOCATION:120 Bar & Grill\, 120 N Lincoln Ave\, Loveland\, CO\, 80537\, United States
CATEGORIES:Jams
END:VEVENT
BEGIN:VEVENT
DTSTART;TZID=America/Denver:20260818T180000
DTEND;TZID=America/Denver:20260818T210000
DTSTAMP:20260423T022844
CREATED:20260326T145106Z
LAST-MODIFIED:20260326T145106Z
UID:10000906-1787076000-1787086800@atomjazznetwork.org
SUMMARY:Jazz Jam w/ Bobby Wiens @ 120 Bar & Grill
DESCRIPTION:
URL:https://atomjazznetwork.org/event/jazz-jam-w-bobby-wiens-120-bar-grill/2026-08-18/
LOCATION:120 Bar & Grill\, 120 N Lincoln Ave\, Loveland\, CO\, 80537\, United States
CATEGORIES:Jams
END:VEVENT
BEGIN:VEVENT
DTSTART;TZID=America/Denver:20260825T180000
DTEND;TZID=America/Denver:20260825T210000
DTSTAMP:20260423T022844
CREATED:20260326T145106Z
LAST-MODIFIED:20260326T145106Z
UID:10000907-1787680800-1787691600@atomjazznetwork.org
SUMMARY:Jazz Jam w/ Bobby Wiens @ 120 Bar & Grill
DESCRIPTION:
URL:https://atomjazznetwork.org/event/jazz-jam-w-bobby-wiens-120-bar-grill/2026-08-25/
LOCATION:120 Bar & Grill\, 120 N Lincoln Ave\, Loveland\, CO\, 80537\, United States
CATEGORIES:Jams
END:VEVENT
BEGIN:VEVENT
DTSTART;TZID=America/Denver:20260901T180000
DTEND;TZID=America/Denver:20260901T210000
DTSTAMP:20260423T022844
CREATED:20260326T145106Z
LAST-MODIFIED:20260326T145106Z
UID:10000908-1788285600-1788296400@atomjazznetwork.org
SUMMARY:Jazz Jam w/ Bobby Wiens @ 120 Bar & Grill
DESCRIPTION:
URL:https://atomjazznetwork.org/event/jazz-jam-w-bobby-wiens-120-bar-grill/2026-09-01/
LOCATION:120 Bar & Grill\, 120 N Lincoln Ave\, Loveland\, CO\, 80537\, United States
CATEGORIES:Jams
END:VEVENT
BEGIN:VEVENT
DTSTART;TZID=America/Denver:20260908T180000
DTEND;TZID=America/Denver:20260908T210000
DTSTAMP:20260423T022844
CREATED:20260326T145106Z
LAST-MODIFIED:20260326T145106Z
UID:10000909-1788890400-1788901200@atomjazznetwork.org
SUMMARY:Jazz Jam w/ Bobby Wiens @ 120 Bar & Grill
DESCRIPTION:
URL:https://atomjazznetwork.org/event/jazz-jam-w-bobby-wiens-120-bar-grill/2026-09-08/
LOCATION:120 Bar & Grill\, 120 N Lincoln Ave\, Loveland\, CO\, 80537\, United States
CATEGORIES:Jams
END:VEVENT
BEGIN:VEVENT
DTSTART;TZID=America/Denver:20260915T180000
DTEND;TZID=America/Denver:20260915T210000
DTSTAMP:20260423T022844
CREATED:20260326T145106Z
LAST-MODIFIED:20260326T145106Z
UID:10000910-1789495200-1789506000@atomjazznetwork.org
SUMMARY:Jazz Jam w/ Bobby Wiens @ 120 Bar & Grill
DESCRIPTION:
URL:https://atomjazznetwork.org/event/jazz-jam-w-bobby-wiens-120-bar-grill/2026-09-15/
LOCATION:120 Bar & Grill\, 120 N Lincoln Ave\, Loveland\, CO\, 80537\, United States
CATEGORIES:Jams
END:VEVENT
BEGIN:VEVENT
DTSTART;TZID=America/Denver:20260922T180000
DTEND;TZID=America/Denver:20260922T210000
DTSTAMP:20260423T022844
CREATED:20260326T145106Z
LAST-MODIFIED:20260326T145106Z
UID:10000911-1790100000-1790110800@atomjazznetwork.org
SUMMARY:Jazz Jam w/ Bobby Wiens @ 120 Bar & Grill
DESCRIPTION:
URL:https://atomjazznetwork.org/event/jazz-jam-w-bobby-wiens-120-bar-grill/2026-09-22/
LOCATION:120 Bar & Grill\, 120 N Lincoln Ave\, Loveland\, CO\, 80537\, United States
CATEGORIES:Jams
END:VEVENT
BEGIN:VEVENT
DTSTART;TZID=America/Denver:20260929T180000
DTEND;TZID=America/Denver:20260929T210000
DTSTAMP:20260423T022844
CREATED:20260326T145106Z
LAST-MODIFIED:20260326T145106Z
UID:10000912-1790704800-1790715600@atomjazznetwork.org
SUMMARY:Jazz Jam w/ Bobby Wiens @ 120 Bar & Grill
DESCRIPTION:
URL:https://atomjazznetwork.org/event/jazz-jam-w-bobby-wiens-120-bar-grill/2026-09-29/
LOCATION:120 Bar & Grill\, 120 N Lincoln Ave\, Loveland\, CO\, 80537\, United States
CATEGORIES:Jams
END:VEVENT
BEGIN:VEVENT
DTSTART;TZID=America/Denver:20261006T180000
DTEND;TZID=America/Denver:20261006T210000
DTSTAMP:20260423T022844
CREATED:20260326T145106Z
LAST-MODIFIED:20260326T145106Z
UID:10000913-1791309600-1791320400@atomjazznetwork.org
SUMMARY:Jazz Jam w/ Bobby Wiens @ 120 Bar & Grill
DESCRIPTION:
URL:https://atomjazznetwork.org/event/jazz-jam-w-bobby-wiens-120-bar-grill/2026-10-06/
LOCATION:120 Bar & Grill\, 120 N Lincoln Ave\, Loveland\, CO\, 80537\, United States
CATEGORIES:Jams
END:VEVENT
BEGIN:VEVENT
DTSTART;TZID=America/Denver:20261013T180000
DTEND;TZID=America/Denver:20261013T210000
DTSTAMP:20260423T022844
CREATED:20260326T145106Z
LAST-MODIFIED:20260326T145106Z
UID:10000914-1791914400-1791925200@atomjazznetwork.org
SUMMARY:Jazz Jam w/ Bobby Wiens @ 120 Bar & Grill
DESCRIPTION:
URL:https://atomjazznetwork.org/event/jazz-jam-w-bobby-wiens-120-bar-grill/2026-10-13/
LOCATION:120 Bar & Grill\, 120 N Lincoln Ave\, Loveland\, CO\, 80537\, United States
CATEGORIES:Jams
END:VEVENT
BEGIN:VEVENT
DTSTART;TZID=America/Denver:20261020T180000
DTEND;TZID=America/Denver:20261020T210000
DTSTAMP:20260423T022844
CREATED:20260326T145106Z
LAST-MODIFIED:20260326T145106Z
UID:10000915-1792519200-1792530000@atomjazznetwork.org
SUMMARY:Jazz Jam w/ Bobby Wiens @ 120 Bar & Grill
DESCRIPTION:
URL:https://atomjazznetwork.org/event/jazz-jam-w-bobby-wiens-120-bar-grill/2026-10-20/
LOCATION:120 Bar & Grill\, 120 N Lincoln Ave\, Loveland\, CO\, 80537\, United States
CATEGORIES:Jams
END:VEVENT
BEGIN:VEVENT
DTSTART;TZID=America/Denver:20261027T180000
DTEND;TZID=America/Denver:20261027T210000
DTSTAMP:20260423T022844
CREATED:20260326T145106Z
LAST-MODIFIED:20260326T145106Z
UID:10000916-1793124000-1793134800@atomjazznetwork.org
SUMMARY:Jazz Jam w/ Bobby Wiens @ 120 Bar & Grill
DESCRIPTION:
URL:https://atomjazznetwork.org/event/jazz-jam-w-bobby-wiens-120-bar-grill/2026-10-27/
LOCATION:120 Bar & Grill\, 120 N Lincoln Ave\, Loveland\, CO\, 80537\, United States
CATEGORIES:Jams
END:VEVENT
BEGIN:VEVENT
DTSTART;TZID=America/Denver:20261103T180000
DTEND;TZID=America/Denver:20261103T210000
DTSTAMP:20260423T022844
CREATED:20260326T145106Z
LAST-MODIFIED:20260326T145106Z
UID:10000917-1793728800-1793739600@atomjazznetwork.org
SUMMARY:Jazz Jam w/ Bobby Wiens @ 120 Bar & Grill
DESCRIPTION:
URL:https://atomjazznetwork.org/event/jazz-jam-w-bobby-wiens-120-bar-grill/2026-11-03/
LOCATION:120 Bar & Grill\, 120 N Lincoln Ave\, Loveland\, CO\, 80537\, United States
CATEGORIES:Jams
END:VEVENT
BEGIN:VEVENT
DTSTART;TZID=America/Denver:20261110T180000
DTEND;TZID=America/Denver:20261110T210000
DTSTAMP:20260423T022844
CREATED:20260326T145106Z
LAST-MODIFIED:20260326T145106Z
UID:10000918-1794333600-1794344400@atomjazznetwork.org
SUMMARY:Jazz Jam w/ Bobby Wiens @ 120 Bar & Grill
DESCRIPTION:
URL:https://atomjazznetwork.org/event/jazz-jam-w-bobby-wiens-120-bar-grill/2026-11-10/
LOCATION:120 Bar & Grill\, 120 N Lincoln Ave\, Loveland\, CO\, 80537\, United States
CATEGORIES:Jams
END:VEVENT
BEGIN:VEVENT
DTSTART;TZID=America/Denver:20261117T180000
DTEND;TZID=America/Denver:20261117T210000
DTSTAMP:20260423T022844
CREATED:20260326T145106Z
LAST-MODIFIED:20260326T145106Z
UID:10000919-1794938400-1794949200@atomjazznetwork.org
SUMMARY:Jazz Jam w/ Bobby Wiens @ 120 Bar & Grill
DESCRIPTION:
URL:https://atomjazznetwork.org/event/jazz-jam-w-bobby-wiens-120-bar-grill/2026-11-17/
LOCATION:120 Bar & Grill\, 120 N Lincoln Ave\, Loveland\, CO\, 80537\, United States
CATEGORIES:Jams
END:VEVENT
END:VCALENDAR